BEGIN:VCALENDAR
VERSION:2.0
PRODID:-//ITALMOTO - ECPv6.15.17.1//NONSGML v1.0//EN
CALSCALE:GREGORIAN
METHOD:PUBLISH
X-WR-CALNAME:ITALMOTO
X-ORIGINAL-URL:https://www.italmoto.de
X-WR-CALDESC:Veranstaltungen für ITALMOTO
REFRESH-INTERVAL;VALUE=DURATION:PT1H
X-Robots-Tag:noindex
X-PUBLISHED-TTL:PT1H
BEGIN:VTIMEZONE
TZID:Europe/Berlin
BEGIN:DAYLIGHT
TZOFFSETFROM:+0100
TZOFFSETTO:+0200
TZNAME:CEST
DTSTART:20230326T010000
END:DAYLIGHT
BEGIN:STANDARD
TZOFFSETFROM:+0200
TZOFFSETTO:+0100
TZNAME:CET
DTSTART:20231029T010000
END:STANDARD
BEGIN:DAYLIGHT
TZOFFSETFROM:+0100
TZOFFSETTO:+0200
TZNAME:CEST
DTSTART:20240331T010000
END:DAYLIGHT
BEGIN:STANDARD
TZOFFSETFROM:+0200
TZOFFSETTO:+0100
TZNAME:CET
DTSTART:20241027T010000
END:STANDARD
BEGIN:DAYLIGHT
TZOFFSETFROM:+0100
TZOFFSETTO:+0200
TZNAME:CEST
DTSTART:20250330T010000
END:DAYLIGHT
BEGIN:STANDARD
TZOFFSETFROM:+0200
TZOFFSETTO:+0100
TZNAME:CET
DTSTART:20251026T010000
END:STANDARD
BEGIN:DAYLIGHT
TZOFFSETFROM:+0100
TZOFFSETTO:+0200
TZNAME:CEST
DTSTART:20260329T010000
END:DAYLIGHT
BEGIN:STANDARD
TZOFFSETFROM:+0200
TZOFFSETTO:+0100
TZNAME:CET
DTSTART:20261025T010000
END:STANDARD
BEGIN:DAYLIGHT
TZOFFSETFROM:+0100
TZOFFSETTO:+0200
TZNAME:CEST
DTSTART:20270328T010000
END:DAYLIGHT
BEGIN:STANDARD
TZOFFSETFROM:+0200
TZOFFSETTO:+0100
TZNAME:CET
DTSTART:20271031T010000
END:STANDARD
END:VTIMEZONE
BEGIN:VEVENT
DTSTART;TZID=Europe/Berlin:20260411T100000
DTEND;TZID=Europe/Berlin:20260411T160000
DTSTAMP:20260425T185604
CREATED:20260114T154941Z
LAST-MODIFIED:20260225T133552Z
UID:7448-1775901600-1775923200@www.italmoto.de
SUMMARY:Saisonstart bei der Italmoto
DESCRIPTION:
URL:https://www.italmoto.de/event/saisonstart-bei-der-italmoto/
END:VEVENT
BEGIN:VEVENT
DTSTART;TZID=Europe/Berlin:20260301T084500
DTEND;TZID=Europe/Berlin:20260301T110000
DTSTAMP:20260425T185604
CREATED:20260114T154604Z
LAST-MODIFIED:20260226T160941Z
UID:7446-1772354700-1772362800@www.italmoto.de
SUMMARY:MotoGP-Saisonauftakt zum Frühstück
DESCRIPTION:
URL:https://www.italmoto.de/event/motogp-saisonauftakt-zum-fruehstueck/
END:VEVENT
BEGIN:VEVENT
DTSTART;TZID=Europe/Berlin:20251213T100000
DTEND;TZID=Europe/Berlin:20251213T160000
DTSTAMP:20260425T185604
CREATED:20251014T055546Z
LAST-MODIFIED:20251014T055546Z
UID:7277-1765620000-1765641600@www.italmoto.de
SUMMARY:ITALMOTO Nikolausfest
DESCRIPTION:
URL:https://www.italmoto.de/event/italmoto-nikolausfest-2/
END:VEVENT
BEGIN:VEVENT
DTSTART;VALUE=DATE:20250910
DTEND;VALUE=DATE:20250912
DTSTAMP:20260425T185604
CREATED:20250604T131151Z
LAST-MODIFIED:20250604T132804Z
UID:7064-1757462400-1757635199@www.italmoto.de
SUMMARY:Ducati4U in Oschersleben
DESCRIPTION:2 Tage Leidenschaft und Emotionen für die Roten!! Für Einsteiger bis Racer\, 799 bis 919 Euro. Ausgebucht/Warteliste.
URL:https://www.italmoto.de/event/ducati4u-in-oschersleben/
END:VEVENT
BEGIN:VEVENT
DTSTART;VALUE=DATE:20250725
DTEND;VALUE=DATE:20250728
DTSTAMP:20260425T185604
CREATED:20250702T072731Z
LAST-MODIFIED:20250702T072731Z
UID:7100-1753401600-1753660799@www.italmoto.de
SUMMARY:70 Jahre Yamaha Festival
DESCRIPTION:Erlebe die R9 oder R1 GYTR auf der Rennstrecke. \nTickets gibt es hier
URL:https://www.italmoto.de/event/70-jahre-yamaha-festival/
LOCATION:Oschersleben
END:VEVENT
BEGIN:VEVENT
DTSTART;VALUE=DATE:20250722
DTEND;VALUE=DATE:20250724
DTSTAMP:20260425T185604
CREATED:20250604T131106Z
LAST-MODIFIED:20250604T131116Z
UID:7061-1753142400-1753315199@www.italmoto.de
SUMMARY:Ducati4U auf der Nürburgring GP-Strecke
DESCRIPTION:Tage Leidenschaft pur in der Eifel. Für Einsteiger bis Racer\, 799 bis 919 Euro.  \n\nAusgebucht/Warteliste.
URL:https://www.italmoto.de/event/ducati4u-auf-der-nuerburgring-gp-strecke/
END:VEVENT
BEGIN:VEVENT
DTSTART;VALUE=DATE:20250711
DTEND;VALUE=DATE:20250714
DTSTAMP:20260425T185604
CREATED:20250604T125614Z
LAST-MODIFIED:20250702T072547Z
UID:7057-1752192000-1752451199@www.italmoto.de
SUMMARY:MotoGP auf dem Sachsenring
DESCRIPTION:Jetzt Tickets sichern\nTribuna Ducati
URL:https://www.italmoto.de/event/motogp-auf-dem-sachsenring/
END:VEVENT
BEGIN:VEVENT
DTSTART;VALUE=DATE:20250612
DTEND;VALUE=DATE:20250614
DTSTAMP:20260425T185604
CREATED:20241121T081709Z
LAST-MODIFIED:20241121T081709Z
UID:6749-1749686400-1749859199@www.italmoto.de
SUMMARY:2 Tage Rennstreckenevent am Sachsenring
DESCRIPTION:Private Veranstaltung mit sehr wenigen Teilnehmern. \nGeeignet für Einsteiger bis Racer. Instruktoren preiswert verfügbar. Strikte Lärmkontrolle. \nAusschließlich mit Serienauspuffanlagen. \n690\,- Euro. Ausgebucht/Warteliste.
URL:https://www.italmoto.de/event/2-tage-rennstreckenevent-am-sachsenring/
END:VEVENT
BEGIN:VEVENT
DTSTART;VALUE=DATE:20250526
DTEND;VALUE=DATE:20250529
DTSTAMP:20260425T185604
CREATED:20241121T081619Z
LAST-MODIFIED:20241121T081619Z
UID:6747-1748217600-1748476799@www.italmoto.de
SUMMARY:3 Tage Rennstreckenevent in Groß Dölln
DESCRIPTION:Private Veranstaltung mit nur wenigen Teilnehmern. Geeignet für Einsteiger bis Racer. Instruktoren preiswert verfügbar. 750\,- Euro. Nur noch wenige Plätze.
URL:https://www.italmoto.de/event/3-tage-rennstreckenevent-in-gross-doelln/
END:VEVENT
BEGIN:VEVENT
DTSTART;VALUE=DATE:20250518
DTEND;VALUE=DATE:20250519
DTSTAMP:20260425T185604
CREATED:20241121T081530Z
LAST-MODIFIED:20241216T085717Z
UID:6744-1747526400-1747612799@www.italmoto.de
SUMMARY:Ducati Kurventraining auf dem Harzring
DESCRIPTION:Buchung direkt unter bez360.de/ducati ab 209\,- Euro.
URL:https://www.italmoto.de/event/ducati-kurventraining-auf-dem-harzring/
END:VEVENT
BEGIN:VEVENT
DTSTART;VALUE=DATE:20250518
DTEND;VALUE=DATE:20250519
DTSTAMP:20260425T185604
CREATED:20241121T081448Z
LAST-MODIFIED:20241121T081448Z
UID:6742-1747526400-1747612799@www.italmoto.de
SUMMARY:Distinguished Gentleman’s Ride
DESCRIPTION:Eine weltweit organisierte\, gemeinsame Ausfahrt für stilvolle Motorräder aller Marken – unterstützt von Triumph. Näheres und Anmeldung über die Webseite gentlemansride.com .
URL:https://www.italmoto.de/event/distinguished-gentlemans-ride/
END:VEVENT
BEGIN:VEVENT
DTSTART;VALUE=DATE:20250503
DTEND;VALUE=DATE:20250504
DTSTAMP:20260425T185604
CREATED:20241121T081402Z
LAST-MODIFIED:20241121T081402Z
UID:6740-1746230400-1746316799@www.italmoto.de
SUMMARY:Ausfahrt der Ducatisti
DESCRIPTION:Weltweite gemeinsame Ausfahrt der Ducatisti unter dem Motto #werideasone.
URL:https://www.italmoto.de/event/ausfahrt-der-ducatisti/
END:VEVENT
BEGIN:VEVENT
DTSTART;VALUE=DATE:20250412
DTEND;VALUE=DATE:20250413
DTSTAMP:20260425T185604
CREATED:20241121T081320Z
LAST-MODIFIED:20241121T081320Z
UID:6737-1744416000-1744502399@www.italmoto.de
SUMMARY:ITALMOTO Saisoneröffnung 2025
DESCRIPTION:mit Testridecenter
URL:https://www.italmoto.de/event/italmoto-saisoneroeffnung-2025/
END:VEVENT
BEGIN:VEVENT
DTSTART;TZID=Europe/Berlin:20250130T160000
DTEND;TZID=Europe/Berlin:20250130T200000
DTSTAMP:20260425T185604
CREATED:20250127T144301Z
LAST-MODIFIED:20250127T144301Z
UID:6803-1738252800-1738267200@www.italmoto.de
SUMMARY:Vorstellung Ducati Streetfighter V2 und Panigale V2
DESCRIPTION:
URL:https://www.italmoto.de/event/vorstellung-ducati-streetfighter-v2-und-panigale-v2/
END:VEVENT
BEGIN:VEVENT
DTSTART;VALUE=DATE:20250106
DTEND;VALUE=DATE:20250109
DTSTAMP:20260425T185604
CREATED:20241121T081203Z
LAST-MODIFIED:20241121T081203Z
UID:6735-1736121600-1736380799@www.italmoto.de
SUMMARY:Rennstreckentraining in Portimao
DESCRIPTION:Wintertraining auf der MotoGP- und WorldSBK-Strecke in Portimao\, Portugal\, vom 6.-8.1.2025. \nBuchung ab 689\,- Euro zzgl. Transport.  \nBuchung direkt unter bike-promotion.de (als Transportstation und im letzten Buchungsschritt im Feld „Kommentare“ „Italmoto“ eingeben) und bitte Info an uns.
URL:https://www.italmoto.de/event/rennstreckentraining-in-portimao/
END:VEVENT
BEGIN:VEVENT
DTSTART;TZID=Europe/Berlin:20241214T100000
DTEND;TZID=Europe/Berlin:20241214T160000
DTSTAMP:20260425T185604
CREATED:20240828T072235Z
LAST-MODIFIED:20241206T143736Z
UID:6553-1734170400-1734192000@www.italmoto.de
SUMMARY:ITALMOTO-Nikolausfest
DESCRIPTION:Das legendäre ITALMOTO-Nikolausfest mit vielen Neuheiten\, unserer famosen Erbsensuppe\, Kaffee & Kuchen und vielen\, vielen Überrraschungen!
URL:https://www.italmoto.de/event/italmoto-nikolausfest/
LOCATION:ITALMOTO\, Heinkelstraße 29\, Garbsen\, 30827\, Germany
END:VEVENT
BEGIN:VEVENT
DTSTART;TZID=Europe/Berlin:20240924T080000
DTEND;TZID=Europe/Berlin:20240925T170000
DTSTAMP:20260425T185604
CREATED:20240429T090451Z
LAST-MODIFIED:20240429T091600Z
UID:2743-1727164800-1727283600@www.italmoto.de
SUMMARY:Ducati4U (AUSGEBUCHT)
DESCRIPTION:Zwei Tage intensives Erlebnis der Marke Ducati auf der Rennstrecke in Oschersleben. Für Einsteiger bis Sportfahrer geeignet.
URL:https://www.italmoto.de/event/ducati4u-ausgebucht/
END:VEVENT
BEGIN:VEVENT
DTSTART;VALUE=DATE:20240924
DTEND;VALUE=DATE:20240926
DTSTAMP:20260425T185604
CREATED:20240619T074332Z
LAST-MODIFIED:20240619T074332Z
UID:6208-1727136000-1727308799@www.italmoto.de
SUMMARY:Ducati4U (Ausgebucht)
DESCRIPTION:Zwei Tage intensives Erlebnis der Marke Ducati auf der Rennstrecke in Oschersleben. \nAusgebucht.
URL:https://www.italmoto.de/event/ducati4u-ausgebucht-2/
END:VEVENT
BEGIN:VEVENT
DTSTART;TZID=Europe/Berlin:20240921T103000
DTEND;TZID=Europe/Berlin:20240921T123000
DTSTAMP:20260425T185604
CREATED:20240828T072139Z
LAST-MODIFIED:20240828T072139Z
UID:6550-1726914600-1726921800@www.italmoto.de
SUMMARY:Basiswissen Sicherheits-Check
DESCRIPTION:Basiswissen Sicherheits-Check fürs Motorrad und richtiges Putzen. \nNur für Damen. Begrenzte Teilnehmerzahl. \nBitte unter info@italmoto.de anmelden!
URL:https://www.italmoto.de/event/basiswissen-sicherheits-check/
END:VEVENT
BEGIN:VEVENT
DTSTART;VALUE=DATE:20240916
DTEND;VALUE=DATE:20240918
DTSTAMP:20260425T185604
CREATED:20240828T072025Z
LAST-MODIFIED:20240828T072025Z
UID:6547-1726444800-1726617599@www.italmoto.de
SUMMARY:Oschersleben
DESCRIPTION:2 Tage Rennstrecke für Einsteiger bis Profis in Kooperation mit Bike Promotion. Ab 469 Euro.
URL:https://www.italmoto.de/event/oschersleben/
END:VEVENT
BEGIN:VEVENT
DTSTART;VALUE=DATE:20240830
DTEND;VALUE=DATE:20240901
DTSTAMP:20260425T185604
CREATED:20240828T071841Z
LAST-MODIFIED:20240828T071841Z
UID:6544-1724976000-1725148799@www.italmoto.de
SUMMARY:Piaggio Electric Days
DESCRIPTION:Teste die elektrischen Roller von Vespa und Piaggio. Wir freuen uns auf Dich.
URL:https://www.italmoto.de/event/piaggio-electric-days/
END:VEVENT
BEGIN:VEVENT
DTSTART;TZID=Europe/Berlin:20240721T080000
DTEND;TZID=Europe/Berlin:20240728T170000
DTSTAMP:20260425T185604
CREATED:20240429T090427Z
LAST-MODIFIED:20240429T091605Z
UID:2741-1721548800-1722186000@www.italmoto.de
SUMMARY:Südtirol & WDW (AUSGEBUCHT)
DESCRIPTION:3 Tage Touren durch Südtirol und Reise zur WDW World Ducati Week. \nAusgebucht.
URL:https://www.italmoto.de/event/suedtirol-wdw-ausgebucht/
END:VEVENT
BEGIN:VEVENT
DTSTART;TZID=Europe/Berlin:20240705T080000
DTEND;TZID=Europe/Berlin:20240707T170000
DTSTAMP:20260425T185604
CREATED:20240429T090247Z
LAST-MODIFIED:20240619T074231Z
UID:2737-1720166400-1720371600@www.italmoto.de
SUMMARY:MotoGP am Sachsenring
DESCRIPTION:Ducati Fanticket\, 3 Tage\, 239\,- Euro: https://www.etix.com/ticket/k/21453845?cobrand=MGP\n\nNur noch wenige Tickets. \n\nTicketangebot des ADAC für alle Fans: https://www.global-tickets.com/de/Sportveranstaltungen/Motorsport/MotoGP/MotoGP-Sachsenring/\n\nTickets verfügbar.
URL:https://www.italmoto.de/event/motogp-am-sachsenring/
END:VEVENT
END:VCALENDAR