BEGIN:VCALENDAR
VERSION:2.0
PRODID:-//ITALMOTO - ECPv6.15.17.1//NONSGML v1.0//EN
CALSCALE:GREGORIAN
METHOD:PUBLISH
X-ORIGINAL-URL:https://www.italmoto.de
X-WR-CALDESC:Veranstaltungen für ITALMOTO
REFRESH-INTERVAL;VALUE=DURATION:PT1H
X-Robots-Tag:noindex
X-PUBLISHED-TTL:PT1H
BEGIN:VTIMEZONE
TZID:Europe/Berlin
BEGIN:DAYLIGHT
TZOFFSETFROM:+0100
TZOFFSETTO:+0200
TZNAME:CEST
DTSTART:20250330T010000
END:DAYLIGHT
BEGIN:STANDARD
TZOFFSETFROM:+0200
TZOFFSETTO:+0100
TZNAME:CET
DTSTART:20251026T010000
END:STANDARD
BEGIN:DAYLIGHT
TZOFFSETFROM:+0100
TZOFFSETTO:+0200
TZNAME:CEST
DTSTART:20260329T010000
END:DAYLIGHT
BEGIN:STANDARD
TZOFFSETFROM:+0200
TZOFFSETTO:+0100
TZNAME:CET
DTSTART:20261025T010000
END:STANDARD
BEGIN:DAYLIGHT
TZOFFSETFROM:+0100
TZOFFSETTO:+0200
TZNAME:CEST
DTSTART:20270328T010000
END:DAYLIGHT
BEGIN:STANDARD
TZOFFSETFROM:+0200
TZOFFSETTO:+0100
TZNAME:CET
DTSTART:20271031T010000
END:STANDARD
END:VTIMEZONE
BEGIN:VEVENT
DTSTART;VALUE=DATE:20260509
DTEND;VALUE=DATE:20260510
DTSTAMP:20260425T165303
CREATED:20260114T155029Z
LAST-MODIFIED:20260420T132452Z
UID:7450-1778284800-1778371199@www.italmoto.de
SUMMARY:#werideasone
DESCRIPTION:Jedes Jahr wieder im Mai treffen wir uns zum gemeinsamen Frühstück bei Italmoto und gehen dann gemeinsam auf Tour. Gleichzeitig mit tausenden anderen Ducatisti und Ducati Owner Clubs überall auf der Welt. Den genauen Termin unseres diesjährigen #werideasone findest Du unter Motorradwelt/Termine und Events. Bei tollem Wetter ein wunderbarer Tag für unsere Gemeinschaft von Enthusiasten mit ausreichend Gelegenheit zu Benzingesprächen und Schräglage.
URL:https://www.italmoto.de/event/werideasone/
END:VEVENT
BEGIN:VEVENT
DTSTART;VALUE=DATE:20260517
DTEND;VALUE=DATE:20260518
DTSTAMP:20260425T165303
CREATED:20260114T155109Z
LAST-MODIFIED:20260420T132551Z
UID:7453-1778976000-1779062399@www.italmoto.de
SUMMARY:Distinguished Gentlemansride
DESCRIPTION:Eine weltweit organisierte Ausfahrt mit Spendenveranstaltung für die Männergesundheit. Anmeldung über www.gentlemansride.com.
URL:https://www.italmoto.de/event/distinguished-gentlemansride/
END:VEVENT
BEGIN:VEVENT
DTSTART;VALUE=DATE:20260517
DTEND;VALUE=DATE:20260518
DTSTAMP:20260425T165303
CREATED:20260114T155440Z
LAST-MODIFIED:20260114T155440Z
UID:7456-1778976000-1779062399@www.italmoto.de
SUMMARY:Ducati Kurventraining am Harzring
DESCRIPTION:Anmeldung unter www.bez360.de/ducati
URL:https://www.italmoto.de/event/ducati-kurventraining-am-harzring/
END:VEVENT
BEGIN:VEVENT
DTSTART;VALUE=DATE:20260627
DTEND;VALUE=DATE:20260706
DTSTAMP:20260425T165303
CREATED:20260114T155527Z
LAST-MODIFIED:20260114T155527Z
UID:7458-1782518400-1783295999@www.italmoto.de
SUMMARY:Reise in die Dolomiten und zur World Ducati Week wdw2026 in Misano
DESCRIPTION:100 Jahre Ducati! Ausgebucht.
URL:https://www.italmoto.de/event/reise-in-die-dolomiten-und-zur-world-ducati-week-wdw2026-in-misano/
END:VEVENT
BEGIN:VEVENT
DTSTART;VALUE=DATE:20260813
DTEND;VALUE=DATE:20260815
DTSTAMP:20260425T165303
CREATED:20260202T083406Z
LAST-MODIFIED:20260202T083406Z
UID:7494-1786579200-1786751999@www.italmoto.de
SUMMARY:2 Tage auf dem Sachsenring
DESCRIPTION:Rennstrecke fahren. Ausschließlich mit originaler Auspuffanlage. Wenige Teilnehmer\, private Veranstaltung. Nur noch wenige Plätze. Preise folgen.
URL:https://www.italmoto.de/event/2-tage-auf-dem-sachsenring/
END:VEVENT
BEGIN:VEVENT
DTSTART;TZID=Europe/Berlin:20260926T090000
DTEND;TZID=Europe/Berlin:20260926T160000
DTSTAMP:20260425T165303
CREATED:20260114T155628Z
LAST-MODIFIED:20260127T102915Z
UID:7460-1790413200-1790438400@www.italmoto.de
SUMMARY:40 Jahre ITALMOTO!
DESCRIPTION:Wir feiern mit Euch!
URL:https://www.italmoto.de/event/40-jahre-italmoto/
END:VEVENT
BEGIN:VEVENT
DTSTART;TZID=Europe/Berlin:20261205T090000
DTEND;TZID=Europe/Berlin:20261205T160000
DTSTAMP:20260425T165303
CREATED:20260114T155727Z
LAST-MODIFIED:20260114T155727Z
UID:7463-1796461200-1796486400@www.italmoto.de
SUMMARY:Das traditionelle Nikolausfest 2026
DESCRIPTION:
URL:https://www.italmoto.de/event/das-traditionelle-nikolausfest-2026/
END:VEVENT
END:VCALENDAR